BEGIN:VCALENDAR
VERSION:2.0
PRODID:-//Jeune Kayak Parisien - ECPv6.15.20//NONSGML v1.0//EN
CALSCALE:GREGORIAN
METHOD:PUBLISH
X-WR-CALNAME:Jeune Kayak Parisien
X-ORIGINAL-URL:https://jeunekayakparisien.fr
X-WR-CALDESC:Évènements pour Jeune Kayak Parisien
REFRESH-INTERVAL;VALUE=DURATION:PT1H
X-Robots-Tag:noindex
X-PUBLISHED-TTL:PT1H
BEGIN:VTIMEZONE
TZID:Europe/Paris
BEGIN:DAYLIGHT
TZOFFSETFROM:+0100
TZOFFSETTO:+0200
TZNAME:CEST
DTSTART:20250330T010000
END:DAYLIGHT
BEGIN:STANDARD
TZOFFSETFROM:+0200
TZOFFSETTO:+0100
TZNAME:CET
DTSTART:20251026T010000
END:STANDARD
BEGIN:DAYLIGHT
TZOFFSETFROM:+0100
TZOFFSETTO:+0200
TZNAME:CEST
DTSTART:20260329T010000
END:DAYLIGHT
BEGIN:STANDARD
TZOFFSETFROM:+0200
TZOFFSETTO:+0100
TZNAME:CET
DTSTART:20261025T010000
END:STANDARD
BEGIN:DAYLIGHT
TZOFFSETFROM:+0100
TZOFFSETTO:+0200
TZNAME:CEST
DTSTART:20270328T010000
END:DAYLIGHT
BEGIN:STANDARD
TZOFFSETFROM:+0200
TZOFFSETTO:+0100
TZNAME:CET
DTSTART:20271031T010000
END:STANDARD
END:VTIMEZONE
BEGIN:VEVENT
DTSTART;TZID=Europe/Paris:20260425T080000
DTEND;TZID=Europe/Paris:20260426T190000
DTSTAMP:20260424T110135
CREATED:20260130T214738Z
LAST-MODIFIED:20260130T220801Z
UID:4845-1777104000-1777230000@jeunekayakparisien.fr
SUMMARY:Chalaux d'avril - 2k26
DESCRIPTION:Les ami•e•s\, \nForts de votre entraînement\, il est temps d’aller se frotter à une rivière naturelle de Bourgogne. Et pas n’importe laquelle\, LA rivière des parigos : le Chalaux\, charmante petite rivière boisée de classe 3\, agrémentée de deux passages de classe 4. Côté logement nous camperons dans la forêt\, évasion garantie. \n\nDépart : samedi 25 avril 8h\nRetour : dimanche 26 avril 19h\nNiveau requis : pagaie verte ou niveau équivalent\, en particulier pour cette sortie il vous faudra être à l’aise avec les bacs\, reprises et stops en classe 2-3. Si vous avez un doute sur votre niveau\, n’hésitez pas à demander. La sortie Saint-Pierre-de-Boeuf-de-Pâques peut être un bon entraînement.\n\nN’hésitez plus\, inscrivez-vous.
URL:https://jeunekayakparisien.fr/calendrier/chalaux-davril-2k26/
END:VEVENT
END:VCALENDAR